BEGIN:VCALENDAR
VERSION:2.0
PRODID:-//Upper Valley Child Advocate Center - ECPv6.15.20//NONSGML v1.0//EN
CALSCALE:GREGORIAN
METHOD:PUBLISH
X-ORIGINAL-URL:https://uppervalleycac.org
X-WR-CALDESC:Events for Upper Valley Child Advocate Center
REFRESH-INTERVAL;VALUE=DURATION:PT1H
X-Robots-Tag:noindex
X-PUBLISHED-TTL:PT1H
BEGIN:VTIMEZONE
TZID:UTC
BEGIN:STANDARD
TZOFFSETFROM:+0000
TZOFFSETTO:+0000
TZNAME:UTC
DTSTART:20240101T000000
END:STANDARD
END:VTIMEZONE
BEGIN:VEVENT
DTSTART;TZID=UTC:20251108T090000
DTEND;TZID=UTC:20251108T150000
DTSTAMP:20260424T155510
CREATED:20251107T153712Z
LAST-MODIFIED:20251107T153712Z
UID:22237-1762592400-1762614000@uppervalleycac.org
SUMMARY:The Eastern Idaho Parent Summit
DESCRIPTION:This event is an incredible opportunity to bring\ntogether parents\, caregivers\, and community partners for a full day of \nconnection\, conversation\, and inspiration. \nThis day is all about building connection\, belonging\, and awareness\nof what already exists in our community — a space for families\nto share their stories\, learn from each other\, and discover\nnew opportunities for support and engagement.\nIf you would like to attend we will link the registration. \nIf you are looking to volunteer we will also link that as well! If you have any \nquestions or need help with the links let us know! \nLink to REGISTER https://www.tfaforms.com/5188315 Link to VOLUNTEER \nhttps://docs.google.com/document/d/1TLQ53BtV_KAstSXRlhywAU_tYOkRPIgI5sP-\nF6b0lis/edit?usp=sharing
URL:https://uppervalleycac.org/event/the-eastern-idaho-parent-summit/
END:VEVENT
BEGIN:VEVENT
DTSTART;VALUE=DATE:20251127
DTEND;VALUE=DATE:20251129
DTSTAMP:20260424T155510
CREATED:20251107T153751Z
LAST-MODIFIED:20251107T153751Z
UID:22239-1764201600-1764374399@uppervalleycac.org
SUMMARY:Center Closed
DESCRIPTION:
URL:https://uppervalleycac.org/event/center-closed/
LOCATION:Upper Valley CAC\, 162 N Yellowstone Hwy\, Rigby\, ID\, 83442\, United States
ORGANIZER;CN="Upper Valley CAC":MAILTO:toni@uppervalleycac.org
END:VEVENT
END:VCALENDAR