BEGIN:VCALENDAR
VERSION:2.0
PRODID:-//Upper Valley Child Advocate Center - ECPv6.15.20//NONSGML v1.0//EN
CALSCALE:GREGORIAN
METHOD:PUBLISH
X-WR-CALNAME:Upper Valley Child Advocate Center
X-ORIGINAL-URL:https://uppervalleycac.org
X-WR-CALDESC:Events for Upper Valley Child Advocate Center
REFRESH-INTERVAL;VALUE=DURATION:PT1H
X-Robots-Tag:noindex
X-PUBLISHED-TTL:PT1H
BEGIN:VTIMEZONE
TZID:UTC
BEGIN:STANDARD
TZOFFSETFROM:+0000
TZOFFSETTO:+0000
TZNAME:UTC
DTSTART:20240101T000000
END:STANDARD
END:VTIMEZONE
BEGIN:VEVENT
DTSTART;TZID=UTC:20250627T080000
DTEND;TZID=UTC:20250627T170000
DTSTAMP:20260424T215341
CREATED:20250925T215917Z
LAST-MODIFIED:20250925T215917Z
UID:22222-1751011200-1751043600@uppervalleycac.org
SUMMARY:GolfForeKids!
DESCRIPTION:GolfFOREKids will take place at Jefferson Hills Golf Course in Rigby\, Idaho on June 27th\, 2025!! We need you to join us in making this fundraiser a great success for our center! Some volunteer opportunities include gathering participants and teams\, contacting sponsors\, networking for raffle prizes\, and being a part of the big day in setting up and running the fundraiser. Every little bit helps so\, if you are interested\, please contact Ashley Stallings at ashley@uppervalleycac.org for more details.  \nIf you are interested in participating in this fundraiser as a sponsor\, by playing on a team\, or by providing raffle prizes\, please contact Ashley as well!
URL:https://uppervalleycac.org/event/golfforekids/
END:VEVENT
END:VCALENDAR