BEGIN:VCALENDAR
VERSION:2.0
PRODID:-//Upper Valley Child Advocate Center - ECPv6.15.20//NONSGML v1.0//EN
CALSCALE:GREGORIAN
METHOD:PUBLISH
X-ORIGINAL-URL:https://uppervalleycac.org
X-WR-CALDESC:Events for Upper Valley Child Advocate Center
REFRESH-INTERVAL;VALUE=DURATION:PT1H
X-Robots-Tag:noindex
X-PUBLISHED-TTL:PT1H
BEGIN:VTIMEZONE
TZID:UTC
BEGIN:STANDARD
TZOFFSETFROM:+0000
TZOFFSETTO:+0000
TZNAME:UTC
DTSTART:20240101T000000
END:STANDARD
END:VTIMEZONE
BEGIN:VEVENT
DTSTART;TZID=UTC:20250418T100000
DTEND;TZID=UTC:20250418T140000
DTSTAMP:20260425T002748
CREATED:20250407T145659Z
LAST-MODIFIED:20250407T145659Z
UID:22165-1744970400-1744984800@uppervalleycac.org
SUMMARY:Play It Safe
DESCRIPTION:Come to the Play It Safe event in Clark County! Our center is putting on an event that is sure to be a blast! Come join us in celebrating Strengthening Families month as we give tours of our mobile unit\, talk about our center and what we do\, and give resources. Join us for activities\, booths from local resources\, cotton candy\, and more. We’ll see you there!
URL:https://uppervalleycac.org/event/play-it-safe/
LOCATION:Blain Waring Memorial Park\, 224 West Main Street\, Dubois\, ID\, 83423\, United States
END:VEVENT
END:VCALENDAR