BEGIN:VCALENDAR
VERSION:2.0
PRODID:-//Upper Valley Child Advocate Center - ECPv6.15.20//NONSGML v1.0//EN
CALSCALE:GREGORIAN
METHOD:PUBLISH
X-ORIGINAL-URL:https://uppervalleycac.org
X-WR-CALDESC:Events for Upper Valley Child Advocate Center
REFRESH-INTERVAL;VALUE=DURATION:PT1H
X-Robots-Tag:noindex
X-PUBLISHED-TTL:PT1H
BEGIN:VTIMEZONE
TZID:UTC
BEGIN:STANDARD
TZOFFSETFROM:+0000
TZOFFSETTO:+0000
TZNAME:UTC
DTSTART:20230101T000000
END:STANDARD
END:VTIMEZONE
BEGIN:VTIMEZONE
TZID:America/Boise
BEGIN:DAYLIGHT
TZOFFSETFROM:-0700
TZOFFSETTO:-0600
TZNAME:MDT
DTSTART:20230312T090000
END:DAYLIGHT
BEGIN:STANDARD
TZOFFSETFROM:-0600
TZOFFSETTO:-0700
TZNAME:MST
DTSTART:20231105T080000
END:STANDARD
BEGIN:DAYLIGHT
TZOFFSETFROM:-0700
TZOFFSETTO:-0600
TZNAME:MDT
DTSTART:20240310T090000
END:DAYLIGHT
BEGIN:STANDARD
TZOFFSETFROM:-0600
TZOFFSETTO:-0700
TZNAME:MST
DTSTART:20241103T080000
END:STANDARD
BEGIN:DAYLIGHT
TZOFFSETFROM:-0700
TZOFFSETTO:-0600
TZNAME:MDT
DTSTART:20250309T090000
END:DAYLIGHT
BEGIN:STANDARD
TZOFFSETFROM:-0600
TZOFFSETTO:-0700
TZNAME:MST
DTSTART:20251102T080000
END:STANDARD
END:VTIMEZONE
BEGIN:VEVENT
DTSTART;TZID=UTC:20241107T190000
DTEND;TZID=UTC:20241107T200000
DTSTAMP:20260423T183827
CREATED:20241105T153509Z
LAST-MODIFIED:20241106T174750Z
UID:22098-1731006000-1731009600@uppervalleycac.org
SUMMARY:Child and Family Advocacy Career Night
DESCRIPTION:Our executive director\, Ashley Stallings\, will be speaking at BYU-Idaho’s Child and Family Advocacy Career Night. If you are interested in a career in advocacy\, want to know more about non-profit organizations\, or just want to see what career opportunities are available\, then come to this event!
URL:https://uppervalleycac.org/event/child-and-family-advocacy-career-night/
LOCATION:BYU-Idaho\, 101 E Viking St\, Rexburg\, ID\, 83460\, United States
ORGANIZER;CN="Upper Valley CAC":MAILTO:toni@uppervalleycac.org
END:VEVENT
BEGIN:VEVENT
DTSTART;TZID=UTC:20241106T140000
DTEND;TZID=UTC:20241106T160000
DTSTAMP:20260423T183827
CREATED:20241105T153324Z
LAST-MODIFIED:20241106T174732Z
UID:22095-1730901600-1730908800@uppervalleycac.org
SUMMARY:Social Work Internship Fair
DESCRIPTION:Two of our advocates will be interviewing potential social work interns at BYU-Idaho’s Social Work Internship Fair. If you or someone you know is interested in interning at our center\, make sure to visit Bethany and Camille at our booth!
URL:https://uppervalleycac.org/event/social-work-internship-fair/
LOCATION:BYU-Idaho\, 101 E Viking St\, Rexburg\, ID\, 83460\, United States
ORGANIZER;CN="Upper Valley CAC":MAILTO:toni@uppervalleycac.org
END:VEVENT
BEGIN:VEVENT
DTSTART;TZID=UTC:20241009T173000
DTEND;TZID=UTC:20241009T193000
DTSTAMP:20260423T183827
CREATED:20241001T171541Z
LAST-MODIFIED:20241001T171541Z
UID:22066-1728495000-1728502200@uppervalleycac.org
SUMMARY:Upper Valley CAC Open House
DESCRIPTION:Come take a tour of our center and learn more about what we do to serve the children and families of South-Eastern Idaho! We want to give the opportunity for the community to visit our center and get to know more about the work that we do. We can’t wait to meet you! Please RSVP to Ashley Stallings by Oct 7th at ashley@uppervalleycac.org
URL:https://uppervalleycac.org/event/upper-valley-cac-open-house/
LOCATION:Upper Valley CAC\, 162 N Yellowstone Hwy\, Rigby\, ID\, 83442\, United States
ORGANIZER;CN="Upper Valley CAC":MAILTO:toni@uppervalleycac.org
END:VEVENT
BEGIN:VEVENT
DTSTART;VALUE=DATE:20240916
DTEND;VALUE=DATE:20240917
DTSTAMP:20260423T183827
CREATED:20240830T182336Z
LAST-MODIFIED:20240830T182336Z
UID:22049-1726444800-1726531199@uppervalleycac.org
SUMMARY:Safer\, Smarter Kids
DESCRIPTION:Our first batch of Safer\, Smarter Kids lessons will be starting this month! We are always looking for volunteers to help teach this wonderful prevention program to children in the Jefferson County School District. Please let us know if you are interested and we will give you more information! Contact Camille at camille@uppervalleycac.org
URL:https://uppervalleycac.org/event/safer-smarter-kids/
LOCATION:ID
ORGANIZER;CN="Upper Valley CAC":MAILTO:toni@uppervalleycac.org
END:VEVENT
BEGIN:VEVENT
DTSTART;TZID=UTC:20240820T140000
DTEND;TZID=UTC:20240820T190000
DTSTAMP:20260423T183827
CREATED:20240731T213112Z
LAST-MODIFIED:20240731T213606Z
UID:21996-1724162400-1724180400@uppervalleycac.org
SUMMARY:Celebrate Youth 20th Celebration
DESCRIPTION:Madison Cares (with Madison School District) is hosting an event at Porter Park in Rexburg called Celebrate Youth. This is an event that Upper Valley CAC has helped with in the past and Madison Cares is a program we love and support. While we are not participating in this event this year\, we wanted to share the opportunity for volunteers if they are interested. They are asking for volunteers to help with anything from setting up\, helping with the carnival\, to taking down. They have 2 hour volunteer slots open anywhere from 9:00am-9:00 pm. You get a free T-shirt if you volunteer for 4 hours. More information can be found on Facebook under Celebrate Youth 2024.If you are interested in volunteering\, go to this link: https://forms.gle/Y1btwiEkJnbAv8Bv6 \nIf you have any questions\, contact chavezm@msd321.com
URL:https://uppervalleycac.org/event/celebrate-youth-20th-celebration/
LOCATION:Porter Park\, 165 S. 3rd W.\, Rexburg\, 83440\, United States
ORGANIZER;CN="Madison Cares (with Madison School District)":MAILTO:chavezm@msd321.com
END:VEVENT
BEGIN:VEVENT
DTSTART;TZID=America/Boise:20240816T084500
DTEND;TZID=America/Boise:20240816T120000
DTSTAMP:20260423T183827
CREATED:20240731T212228Z
LAST-MODIFIED:20240731T213343Z
UID:21989-1723797900-1723809600@uppervalleycac.org
SUMMARY:Kids Fun Run
DESCRIPTION:We still need volunteers to help with the Kids Fun Run in Rigby\, Idaho and we would love your help and service! The kids will start at the park and then at the fairgrounds. We need kiddos to run with us and volunteers to help with registration sheets\, guiding kids down the path\, and handing out otter pops at the end of the run. We are also accepting donations for otter pops popsicles either via our Amazon Wishlist or donating boxes purchased locally (must be unused and unopened). \nPlease email Toni at toni@uppervalleycac.org for more details if you are interested in participating.
URL:https://uppervalleycac.org/event/kids-fun-run/
LOCATION:Pirate Park\, 355 Centennial Ln\,\, Rigby\, ID\, 83442\, United States
ORGANIZER;CN="Upper Valley CAC":MAILTO:toni@uppervalleycac.org
END:VEVENT
BEGIN:VEVENT
DTSTART;VALUE=DATE:20240716
DTEND;VALUE=DATE:20240731
DTSTAMP:20260423T183827
CREATED:20240730T202752Z
LAST-MODIFIED:20240730T202752Z
UID:21975-1721088000-1722383999@uppervalleycac.org
SUMMARY:Pick Me Up Fundraiser
DESCRIPTION:
URL:https://uppervalleycac.org/event/pick-me-up-fundraiser/
LOCATION:ID
END:VEVENT
END:VCALENDAR