BEGIN:VCALENDAR
VERSION:2.0
PRODID:-//Upper Valley Child Advocate Center - ECPv6.15.20//NONSGML v1.0//EN
CALSCALE:GREGORIAN
METHOD:PUBLISH
X-WR-CALNAME:Upper Valley Child Advocate Center
X-ORIGINAL-URL:https://uppervalleycac.org
X-WR-CALDESC:Events for Upper Valley Child Advocate Center
REFRESH-INTERVAL;VALUE=DURATION:PT1H
X-Robots-Tag:noindex
X-PUBLISHED-TTL:PT1H
BEGIN:VTIMEZONE
TZID:UTC
BEGIN:STANDARD
TZOFFSETFROM:+0000
TZOFFSETTO:+0000
TZNAME:UTC
DTSTART:20240101T000000
END:STANDARD
END:VTIMEZONE
BEGIN:VEVENT
DTSTART;TZID=UTC:20250526T080000
DTEND;TZID=UTC:20250526T170000
DTSTAMP:20260425T114042
CREATED:20250925T220008Z
LAST-MODIFIED:20250925T220008Z
UID:22224-1748246400-1748278800@uppervalleycac.org
SUMMARY:Memorial Day
DESCRIPTION:Our office will be closed as we observe this holiday and honor those who have passed.
URL:https://uppervalleycac.org/event/memorial-day/
END:VEVENT
BEGIN:VEVENT
DTSTART;TZID=UTC:20250627T080000
DTEND;TZID=UTC:20250627T170000
DTSTAMP:20260425T114042
CREATED:20250925T215917Z
LAST-MODIFIED:20250925T215917Z
UID:22222-1751011200-1751043600@uppervalleycac.org
SUMMARY:GolfForeKids!
DESCRIPTION:GolfFOREKids will take place at Jefferson Hills Golf Course in Rigby\, Idaho on June 27th\, 2025!! We need you to join us in making this fundraiser a great success for our center! Some volunteer opportunities include gathering participants and teams\, contacting sponsors\, networking for raffle prizes\, and being a part of the big day in setting up and running the fundraiser. Every little bit helps so\, if you are interested\, please contact Ashley Stallings at ashley@uppervalleycac.org for more details.  \nIf you are interested in participating in this fundraiser as a sponsor\, by playing on a team\, or by providing raffle prizes\, please contact Ashley as well!
URL:https://uppervalleycac.org/event/golfforekids/
END:VEVENT
BEGIN:VEVENT
DTSTART;TZID=UTC:20250815T080000
DTEND;TZID=UTC:20250815T100000
DTSTAMP:20260425T114042
CREATED:20250812T175320Z
LAST-MODIFIED:20250812T175422Z
UID:22178-1755244800-1755252000@uppervalleycac.org
SUMMARY:Kids Fun Run
DESCRIPTION:We will be doing the annual Kids Fun Run on August 15th at the Jefferson County\nFair! Please come and meet by the pirate ship playground\, look for the balloons!\nThere will be Otter Pops at the end of the race for all the kids.
URL:https://uppervalleycac.org/event/kids-fun-run-2/
LOCATION:Jefferson County Fairgrounds\, 319 Veteran Memorial Drive\, 355 Centennial Ln\,\, Riby\, ID\, 83442\, United States
ORGANIZER;CN="Upper Valley CAC":MAILTO:toni@uppervalleycac.org
END:VEVENT
BEGIN:VEVENT
DTSTART;VALUE=DATE:20250901
DTEND;VALUE=DATE:20250902
DTSTAMP:20260425T114042
CREATED:20250902T215519Z
LAST-MODIFIED:20250902T215519Z
UID:22185-1756684800-1756771199@uppervalleycac.org
SUMMARY:Labor Day
DESCRIPTION:Our office will be closed Monday September 1st for Labor Day!
URL:https://uppervalleycac.org/event/labor-day/
END:VEVENT
BEGIN:VEVENT
DTSTART;TZID=UTC:20250906T190000
DTEND;TZID=UTC:20250906T220000
DTSTAMP:20260425T114042
CREATED:20250902T215825Z
LAST-MODIFIED:20250902T215825Z
UID:22187-1757185200-1757196000@uppervalleycac.org
SUMMARY:Idaho Falls Chuckars Game
DESCRIPTION:We will be at the Idaho Falls Chuckars Game on Saturday September 6th\, with a\ntable full of our resources! We hope you stop by! Game starts at 7 pm.
URL:https://uppervalleycac.org/event/idaho-falls-chuckars-game/
LOCATION:Melaleuca Field\, 900 Jim Garchow Wy\, Idaho Falls\, ID\, 83402\, United States
END:VEVENT
BEGIN:VEVENT
DTSTART;TZID=UTC:20250909T190000
DTEND;TZID=UTC:20250909T203000
DTSTAMP:20260425T114042
CREATED:20250902T220351Z
LAST-MODIFIED:20250902T220351Z
UID:22190-1757444400-1757449800@uppervalleycac.org
SUMMARY:Women in Business & Leadership Event
DESCRIPTION:Our Director\, Ashley Stallings\, will be speaking at the Women in Business & Leadership Event. Located at Fizz Rizz in Rexburg\, 32 College Ave\, Rexburg ID 83440.RSVP: text (208)-710-6751
URL:https://uppervalleycac.org/event/women-in-business-leadership-event/
LOCATION:Fizz Rizz\, 32 College Ave\, Rexburg\, ID\, 83440\, United States
END:VEVENT
BEGIN:VEVENT
DTSTART;TZID=UTC:20251030T170000
DTEND;TZID=UTC:20251030T210000
DTSTAMP:20260425T114042
CREATED:20251014T182733Z
LAST-MODIFIED:20251014T182733Z
UID:22230-1761843600-1761858000@uppervalleycac.org
SUMMARY:CYA Night at New Sweden Farms
DESCRIPTION:Community Youth in Action (CYA) will be having a Resource and Fundraising night\nat New Sweden Farms on October 30th from 5-9 pm. We will have a table there.
URL:https://uppervalleycac.org/event/cya-night-at-new-sweden-farms/
LOCATION:New Sweden Farms\, 3512 17th S\, Idaho Falls\, ID\, 83402\, United States
END:VEVENT
BEGIN:VEVENT
DTSTART;TZID=UTC:20251108T090000
DTEND;TZID=UTC:20251108T150000
DTSTAMP:20260425T114042
CREATED:20251107T153712Z
LAST-MODIFIED:20251107T153712Z
UID:22237-1762592400-1762614000@uppervalleycac.org
SUMMARY:The Eastern Idaho Parent Summit
DESCRIPTION:This event is an incredible opportunity to bring\ntogether parents\, caregivers\, and community partners for a full day of \nconnection\, conversation\, and inspiration. \nThis day is all about building connection\, belonging\, and awareness\nof what already exists in our community — a space for families\nto share their stories\, learn from each other\, and discover\nnew opportunities for support and engagement.\nIf you would like to attend we will link the registration. \nIf you are looking to volunteer we will also link that as well! If you have any \nquestions or need help with the links let us know! \nLink to REGISTER https://www.tfaforms.com/5188315 Link to VOLUNTEER \nhttps://docs.google.com/document/d/1TLQ53BtV_KAstSXRlhywAU_tYOkRPIgI5sP-\nF6b0lis/edit?usp=sharing
URL:https://uppervalleycac.org/event/the-eastern-idaho-parent-summit/
END:VEVENT
BEGIN:VEVENT
DTSTART;VALUE=DATE:20251127
DTEND;VALUE=DATE:20251129
DTSTAMP:20260425T114042
CREATED:20251107T153751Z
LAST-MODIFIED:20251107T153751Z
UID:22239-1764201600-1764374399@uppervalleycac.org
SUMMARY:Center Closed
DESCRIPTION:
URL:https://uppervalleycac.org/event/center-closed/
LOCATION:Upper Valley CAC\, 162 N Yellowstone Hwy\, Rigby\, ID\, 83442\, United States
ORGANIZER;CN="Upper Valley CAC":MAILTO:toni@uppervalleycac.org
END:VEVENT
BEGIN:VEVENT
DTSTART;TZID=UTC:20251224T080000
DTEND;TZID=UTC:20251225T170000
DTSTAMP:20260425T114042
CREATED:20251208T174053Z
LAST-MODIFIED:20251208T174106Z
UID:22244-1766563200-1766682000@uppervalleycac.org
SUMMARY:Center Closed
DESCRIPTION:Our office will also be closed Wednesday December 24 and Thursday December 25.
URL:https://uppervalleycac.org/event/center-closed-2/
LOCATION:Upper Valley CAC\, 162 N Yellowstone Hwy\, Rigby\, ID\, 83442\, United States
END:VEVENT
BEGIN:VEVENT
DTSTART;TZID=UTC:20251231T080000
DTEND;TZID=UTC:20260101T170000
DTSTAMP:20260425T114042
CREATED:20251208T174158Z
LAST-MODIFIED:20251208T174158Z
UID:22246-1767168000-1767286800@uppervalleycac.org
SUMMARY:Center Closed
DESCRIPTION:Our office will also be closed Wednesday December 31 and Thursday January 1.
URL:https://uppervalleycac.org/event/center-closed-3/
LOCATION:Upper Valley CAC\, 162 N Yellowstone Hwy\, Rigby\, ID\, 83442\, United States
END:VEVENT
BEGIN:VEVENT
DTSTART;TZID=UTC:20260120T080000
DTEND;TZID=UTC:20260120T170000
DTSTAMP:20260425T114042
CREATED:20260113T220121Z
LAST-MODIFIED:20260113T220121Z
UID:22255-1768896000-1768928400@uppervalleycac.org
SUMMARY:Martin Luther King Jr. Day
DESCRIPTION:The office will be closed.
URL:https://uppervalleycac.org/event/martin-luther-king-jr-day-2/
LOCATION:Upper Valley CAC\, 162 N Yellowstone Hwy\, Rigby\, ID\, 83442\, United States
END:VEVENT
BEGIN:VEVENT
DTSTART;TZID=UTC:20260205T180000
DTEND;TZID=UTC:20260205T200000
DTSTAMP:20260425T114042
CREATED:20260113T230600Z
LAST-MODIFIED:20260113T230600Z
UID:22257-1770314400-1770321600@uppervalleycac.org
SUMMARY:Quarterly Volunteer Program
DESCRIPTION:We are excited to kick off our new Quarterly Volunteer Program–a chance to learn\, connect\, and make a meaningful impact with us. At this first gathering\, you’ll meet our team\, get an inside look at our mission\, and explore ways to support children and families throughout the year. Whether you are brand new-or returning with fresh energy\, we’d love to have you there! \nMark your calendars for Thursday\, February 5th at 6:00 PM. We can’t wait to welcome you! \nLocation: Upper Valley CAC\n162 N. Yellowstone Hwy\, Rigby ID
URL:https://uppervalleycac.org/event/quarterly-volunteer-program/
LOCATION:Upper Valley CAC\, 162 N Yellowstone Hwy\, Rigby\, ID\, 83442\, United States
ORGANIZER;CN="Upper Valley CAC":MAILTO:toni@uppervalleycac.org
END:VEVENT
BEGIN:VEVENT
DTSTART;TZID=UTC:20260512T180000
DTEND;TZID=UTC:20260512T193000
DTSTAMP:20260425T114042
CREATED:20260406T172733Z
LAST-MODIFIED:20260406T172733Z
UID:22303-1778608800-1778614200@uppervalleycac.org
SUMMARY:2nd Qtr. Volunteer Meeting
DESCRIPTION:We will be doing our HOPE training with you all! Stay tuned for more info.
URL:https://uppervalleycac.org/event/2nd-qtr-volunteer-meeting/
ORGANIZER;CN="Upper Valley CAC":MAILTO:toni@uppervalleycac.org
END:VEVENT
END:VCALENDAR