BEGIN:VCALENDAR
VERSION:2.0
PRODID:-//Upper Valley Child Advocate Center - ECPv6.15.20//NONSGML v1.0//EN
CALSCALE:GREGORIAN
METHOD:PUBLISH
X-WR-CALNAME:Upper Valley Child Advocate Center
X-ORIGINAL-URL:https://uppervalleycac.org
X-WR-CALDESC:Events for Upper Valley Child Advocate Center
REFRESH-INTERVAL;VALUE=DURATION:PT1H
X-Robots-Tag:noindex
X-PUBLISHED-TTL:PT1H
BEGIN:VTIMEZONE
TZID:UTC
BEGIN:STANDARD
TZOFFSETFROM:+0000
TZOFFSETTO:+0000
TZNAME:UTC
DTSTART:20240101T000000
END:STANDARD
END:VTIMEZONE
BEGIN:VEVENT
DTSTART;TZID=UTC:20251224T080000
DTEND;TZID=UTC:20251225T170000
DTSTAMP:20260424T155337
CREATED:20251208T174053Z
LAST-MODIFIED:20251208T174106Z
UID:22244-1766563200-1766682000@uppervalleycac.org
SUMMARY:Center Closed
DESCRIPTION:Our office will also be closed Wednesday December 24 and Thursday December 25.
URL:https://uppervalleycac.org/event/center-closed-2/
LOCATION:Upper Valley CAC\, 162 N Yellowstone Hwy\, Rigby\, ID\, 83442\, United States
END:VEVENT
END:VCALENDAR