BEGIN:VCALENDAR
VERSION:2.0
PRODID:-//Upper Valley Child Advocate Center - ECPv6.15.20//NONSGML v1.0//EN
CALSCALE:GREGORIAN
METHOD:PUBLISH
X-WR-CALNAME:Upper Valley Child Advocate Center
X-ORIGINAL-URL:https://uppervalleycac.org
X-WR-CALDESC:Events for Upper Valley Child Advocate Center
REFRESH-INTERVAL;VALUE=DURATION:PT1H
X-Robots-Tag:noindex
X-PUBLISHED-TTL:PT1H
BEGIN:VTIMEZONE
TZID:UTC
BEGIN:STANDARD
TZOFFSETFROM:+0000
TZOFFSETTO:+0000
TZNAME:UTC
DTSTART:20240101T000000
END:STANDARD
END:VTIMEZONE
BEGIN:VEVENT
DTSTART;TZID=UTC:20250906T190000
DTEND;TZID=UTC:20250906T220000
DTSTAMP:20260424T193924
CREATED:20250902T215825Z
LAST-MODIFIED:20250902T215825Z
UID:22187-1757185200-1757196000@uppervalleycac.org
SUMMARY:Idaho Falls Chuckars Game
DESCRIPTION:We will be at the Idaho Falls Chuckars Game on Saturday September 6th\, with a\ntable full of our resources! We hope you stop by! Game starts at 7 pm.
URL:https://uppervalleycac.org/event/idaho-falls-chuckars-game/
LOCATION:Melaleuca Field\, 900 Jim Garchow Wy\, Idaho Falls\, ID\, 83402\, United States
END:VEVENT
END:VCALENDAR