BEGIN:VCALENDAR
VERSION:2.0
PRODID:-//Upper Valley Child Advocate Center - ECPv6.15.20//NONSGML v1.0//EN
CALSCALE:GREGORIAN
METHOD:PUBLISH
X-ORIGINAL-URL:https://uppervalleycac.org
X-WR-CALDESC:Events for Upper Valley Child Advocate Center
REFRESH-INTERVAL;VALUE=DURATION:PT1H
X-Robots-Tag:noindex
X-PUBLISHED-TTL:PT1H
BEGIN:VTIMEZONE
TZID:UTC
BEGIN:STANDARD
TZOFFSETFROM:+0000
TZOFFSETTO:+0000
TZNAME:UTC
DTSTART:20240101T000000
END:STANDARD
END:VTIMEZONE
BEGIN:VEVENT
DTSTART;TZID=UTC:20250217T090000
DTEND;TZID=UTC:20250217T170000
DTSTAMP:20260425T043343
CREATED:20250204T171620Z
LAST-MODIFIED:20250204T171620Z
UID:22137-1739782800-1739811600@uppervalleycac.org
SUMMARY:Presidents' Day
DESCRIPTION:Our office will be closed as we observe this holiday.
URL:https://uppervalleycac.org/event/presidents-day/
END:VEVENT
END:VCALENDAR