BEGIN:VCALENDAR
VERSION:2.0
PRODID:-//Upper Valley Child Advocate Center - ECPv6.15.20//NONSGML v1.0//EN
CALSCALE:GREGORIAN
METHOD:PUBLISH
X-ORIGINAL-URL:https://uppervalleycac.org
X-WR-CALDESC:Events for Upper Valley Child Advocate Center
REFRESH-INTERVAL;VALUE=DURATION:PT1H
X-Robots-Tag:noindex
X-PUBLISHED-TTL:PT1H
BEGIN:VTIMEZONE
TZID:UTC
BEGIN:STANDARD
TZOFFSETFROM:+0000
TZOFFSETTO:+0000
TZNAME:UTC
DTSTART:20230101T000000
END:STANDARD
END:VTIMEZONE
BEGIN:VEVENT
DTSTART;TZID=UTC:20240820T140000
DTEND;TZID=UTC:20240820T190000
DTSTAMP:20260425T130854
CREATED:20240731T213112Z
LAST-MODIFIED:20240731T213606Z
UID:21996-1724162400-1724180400@uppervalleycac.org
SUMMARY:Celebrate Youth 20th Celebration
DESCRIPTION:Madison Cares (with Madison School District) is hosting an event at Porter Park in Rexburg called Celebrate Youth. This is an event that Upper Valley CAC has helped with in the past and Madison Cares is a program we love and support. While we are not participating in this event this year\, we wanted to share the opportunity for volunteers if they are interested. They are asking for volunteers to help with anything from setting up\, helping with the carnival\, to taking down. They have 2 hour volunteer slots open anywhere from 9:00am-9:00 pm. You get a free T-shirt if you volunteer for 4 hours. More information can be found on Facebook under Celebrate Youth 2024.If you are interested in volunteering\, go to this link: https://forms.gle/Y1btwiEkJnbAv8Bv6 \nIf you have any questions\, contact chavezm@msd321.com
URL:https://uppervalleycac.org/event/celebrate-youth-20th-celebration/
LOCATION:Porter Park\, 165 S. 3rd W.\, Rexburg\, 83440\, United States
ORGANIZER;CN="Madison Cares (with Madison School District)":MAILTO:chavezm@msd321.com
END:VEVENT
END:VCALENDAR